BEGIN:VCALENDAR
VERSION:2.0
PRODID:-//wp-events-plugin.com//7.2.3.1//EN
TZID:America/New_York
X-WR-TIMEZONE:America/New_York
BEGIN:VEVENT
UID:1863@khsarasota.org
DTSTART;TZID=America/New_York:20260117T100000
DTEND;TZID=America/New_York:20260117T120000
DTSTAMP:20260116T145953Z
URL:https://www.khsarasota.org/events/torah-in-the-park/
SUMMARY:POSTPONED DUE TO WEATHER - Torah in the Park
DESCRIPTION:This event has been postponed due to weather conditions.  We a
 pologize for any inconvenience.\n\nPlease keep an eye on our newsletters a
 nd calendar of events: https://www.khsarasota.org/calendar/\n_____\n\nA Sh
 abbat morning in nature with Torah Study\, conversation and contemplation.
  Led by Rabbi Sigal at a Sarasota park. Location and reminder will be sent
  a few days prior to event.\n\nNo prior experience is necessary. Please br
 ing a chair. Rain or shine! \n\nBring your lunch and stay to enjoy the par
 k and socialize. \n\nFor details and location please register below. \n\n
 Questions? Contact us.\n\n[gravityform id="24" title="false" description="
 false"]
ATTACH;FMTTYPE=image/jpeg:https://www.khsarasota.org/wp-content/uploads/20
 24/02/Shabbat-in-park-scaled.jpeg
CATEGORIES:Classes &amp; Programs
END:VEVENT
BEGIN:VTIMEZONE
TZID:America/New_York
X-LIC-LOCATION:America/New_York
BEGIN:STANDARD
DTSTART:20251102T010000
TZOFFSETFROM:-0400
TZOFFSETTO:-0500
TZNAME:EST
END:STANDARD
END:VTIMEZONE
END:VCALENDAR