BEGIN:VCALENDAR
VERSION:2.0
PRODID:-//wp-events-plugin.com//7.2.3.1//EN
TZID:America/New_York
X-WR-TIMEZONE:America/New_York
BEGIN:VEVENT
UID:1383@khsarasota.org
DTSTART;TZID=America/New_York:20240420T133000
DTEND;TZID=America/New_York:20240420T153000
DTSTAMP:20240315T143720Z
URL:https://www.khsarasota.org/events/spiritual-preparation-and-meditation
 -for-passover/
SUMMARY:Spiritual Preparation and Meditation for Passover
DESCRIPTION:[gravityform id="4" title="true"]Online Form - Meditation for P
 assover April 20\, 2024\n
ATTACH;FMTTYPE=image/jpeg:https://www.khsarasota.org/wp-content/uploads/20
 24/03/passover-workshop-ad-for-KHwebpage.jpg
END:VEVENT
BEGIN:VTIMEZONE
TZID:America/New_York
X-LIC-LOCATION:America/New_York
BEGIN:DAYLIGHT
DTSTART:20240310T030000
TZOFFSETFROM:-0500
TZOFFSETTO:-0400
TZNAME:EDT
END:DAYLIGHT
END:VTIMEZONE
END:VCALENDAR