BEGIN:VCALENDAR
VERSION:2.0
PRODID:-//wp-events-plugin.com//7.2.3.1//EN
TZID:America/New_York
X-WR-TIMEZONE:America/New_York
BEGIN:VEVENT
UID:1848@khsarasota.org
DTSTART;TZID=America/New_York:20260424T180000
DTEND;TZID=America/New_York:20260424T190000
DTSTAMP:20260402T172248Z
URL:https://www.khsarasota.org/events/kabbalat-shabbat-12-2026-04-24/
SUMMARY:Zen Shabbat
DESCRIPTION:Together we will enter the sanctuary of Shabbat\, a day designe
 d for the care of our hearts and souls. Come and experience true ease and 
 calm. Breathe\, light candles\, chant\, pray\, learn and contemplate with 
 us on this Zen Shabbat.\n\nLet us join our voices and our meditative praye
 rs for peace in our souls and in the world.\n\nAll are welcome. Location: 
 Community Day School\, McIntosh and Wilkinson. Sarasota FL\n\nLivestream a
 vailable \n\n&nbsp\;
ATTACH;FMTTYPE=image/jpeg:https://www.khsarasota.org/wp-content/uploads/20
 25/10/Zen-Shabbat.png
CATEGORIES:Services
END:VEVENT
BEGIN:VTIMEZONE
TZID:America/New_York
X-LIC-LOCATION:America/New_York
BEGIN:DAYLIGHT
DTSTART:20260308T030000
TZOFFSETFROM:-0500
TZOFFSETTO:-0400
TZNAME:EDT
END:DAYLIGHT
END:VTIMEZONE
END:VCALENDAR