BEGIN:VCALENDAR
VERSION:2.0
PRODID:-//wp-events-plugin.com//7.2.3.1//EN
TZID:America/New_York
X-WR-TIMEZONE:America/New_York
BEGIN:VEVENT
UID:570@khsarasota.org
DTSTART;TZID=America/New_York:20220302T140000
DTEND;TZID=America/New_York:20220302T150000
DTSTAMP:20220221T181815Z
URL:https://www.khsarasota.org/events/cooking-with-kh-chefs-for-passover/
SUMMARY:Cooking with KH Chefs For Passover
DESCRIPTION:Today's Chef: Dale Sprintz\n\nCARROT SOUFFLE\n\n&nbsp\;
CATEGORIES:Classes &amp; Programs
END:VEVENT
BEGIN:VTIMEZONE
TZID:America/New_York
X-LIC-LOCATION:America/New_York
BEGIN:STANDARD
DTSTART:20211107T010000
TZOFFSETFROM:-0400
TZOFFSETTO:-0500
TZNAME:EST
END:STANDARD
END:VTIMEZONE
END:VCALENDAR